BEGIN:VCALENDAR
VERSION:2.0
PRODID:-//Episcopal Maine - ECPv6.3.6//NONSGML v1.0//EN
CALSCALE:GREGORIAN
METHOD:PUBLISH
X-WR-CALNAME:Episcopal Maine
X-ORIGINAL-URL:https://episcopalmaine.org
X-WR-CALDESC:Events for Episcopal Maine
REFRESH-INTERVAL;VALUE=DURATION:PT1H
X-Robots-Tag:noindex
X-PUBLISHED-TTL:PT1H
BEGIN:VTIMEZONE
TZID:America/New_York
BEGIN:DAYLIGHT
TZOFFSETFROM:-0500
TZOFFSETTO:-0400
TZNAME:EDT
DTSTART:20260308T070000
END:DAYLIGHT
BEGIN:STANDARD
TZOFFSETFROM:-0400
TZOFFSETTO:-0500
TZNAME:EST
DTSTART:20261101T060000
END:STANDARD
END:VTIMEZONE
BEGIN:VEVENT
DTSTART;TZID=America/New_York:20260422T150000
DTEND;TZID=America/New_York:20260422T160000
DTSTAMP:20260422T183028
CREATED:20260421T185943Z
LAST-MODIFIED:20260421T185943Z
UID:10005301-1776870000-1776873600@episcopalmaine.org
SUMMARY:Earth Day Creation Care Call with the Presiding Bishop
DESCRIPTION:This special Earth Day conversation will feature Presiding Bishop Sean Rowe; Bishop Cathleen Bascom\, eco-regions coordinator; and Andrew Thompson\, director of the Center for Religion and Environment at Sewanee. \nJoin these monthly calls to hear from The Episcopal Church’s public policy and witness and mission program teams\, as well as voices from across the church\, on issues related to care of creation. Spanish interpretation is available. Register here.
URL:https://episcopalmaine.org/event/earth-day-creation-care-call-with-the-presiding-bishop/
CATEGORIES:Advocacy,Climate Justice - Creation Care,The Episcopal Church
END:VEVENT
END:VCALENDAR